BEGIN:VCALENDAR
VERSION:2.0
BEGIN:VTIMEZONE
TZID:GMT Standard Time
END:VTIMEZONE
BEGIN:VEVENT
UID:AE1334
DTSTAMP:20260421T023900Z
SUMMARY:Senior Coding Club (ages 13-16) - Summer Camp
CLASS:PUBLIC
DESCRIPTION:
STATUS:CONFIRMED
PRIORITY:1
DTSTART:20260616T091500Z
DTEND:20260623T153000Z
TRANSP:OPAQUE
END:VEVENT
END:VCALENDAR
