BEGIN:VCALENDAR
VERSION:2.0
BEGIN:VTIMEZONE
TZID:GMT Standard Time
END:VTIMEZONE
BEGIN:VEVENT
UID:AE1338
DTSTAMP:20260422T100900Z
SUMMARY:Virtual Taste of an MBA
CLASS:PUBLIC
DESCRIPTION:
STATUS:CONFIRMED
PRIORITY:1
DTSTART:20260520T120000Z
DTEND:20260520T130000Z
TRANSP:OPAQUE
END:VEVENT
END:VCALENDAR
