BEGIN:VCALENDAR
VERSION:2.0
BEGIN:VTIMEZONE
TZID:GMT Standard Time
END:VTIMEZONE
BEGIN:VEVENT
UID:AE1341
DTSTAMP:20260424T204100Z
SUMMARY:Springboard+ Online Sample Class: Computing Specialisations
CLASS:PUBLIC
DESCRIPTION:
STATUS:CONFIRMED
PRIORITY:1
DTSTART:20260604T170000Z
DTEND:20260604T183000Z
TRANSP:OPAQUE
END:VEVENT
END:VCALENDAR
